BEGIN:VCALENDAR
VERSION:2.0
PRODID:-//The Arthouse Oasis - ECPv6.15.16//NONSGML v1.0//EN
CALSCALE:GREGORIAN
METHOD:PUBLISH
X-ORIGINAL-URL:https://thearthouseoasis.com
X-WR-CALDESC:Events for The Arthouse Oasis
REFRESH-INTERVAL;VALUE=DURATION:PT1H
X-Robots-Tag:noindex
X-PUBLISHED-TTL:PT1H
BEGIN:VTIMEZONE
TZID:UTC
BEGIN:STANDARD
TZOFFSETFROM:+0000
TZOFFSETTO:+0000
TZNAME:UTC
DTSTART:20240101T000000
END:STANDARD
END:VTIMEZONE
BEGIN:VEVENT
DTSTART;TZID=UTC:20250430T180000
DTEND;TZID=UTC:20250430T200000
DTSTAMP:20260421T223501
CREATED:20250309T234035Z
LAST-MODIFIED:20250430T084935Z
UID:9275-1746036000-1746043200@thearthouseoasis.com
SUMMARY:Temporary Tattoo Design Workshop 30.4.25 6pm-8pm
DESCRIPTION:Join me for a 2 hour art workshop and design your own temporary tattoos! \nThis is a beginners design workshop. In this session we will draw our designs using pencils and pens.\nOnce you have drawn your ideas out we will then work together to plan out any text or extra elements to be added.\nOnce the workshop is over\, Gabrielle will incorporate your drawings and text together and proof to you via email.\nOnce approval is given they will then be printed as temporary tattoos.\nThey will be ready to pick up from the studio a few weeks later.\nBring your own samples and ideas to the table or be guided by Gabrielle. \nYou’ll end up with six gorgeous 6x5cm temporary tattoos that you can wear on your body! \n*We use the best quality temporary tattoo materials on the market.  \nEverything is FDA approved and certified with no adverse reactions listed.  \nWe advise the tattoos to be used for ages 3+.) \nThis is a great way for friends and families to get creative together. \nSuitable for all abilities. All materials and tea/coffee/biccys included. \nParking Available. \nVENUE: The Arthouse Oasis\, Great Hallingbury\, Bishop’s Stortford.\nCOST: £40 per person.\nBOOKING IN ADVANCE ONLY. \nTo be kept updated on our events please sign up to the newsletter.
URL:https://thearthouseoasis.com/event/temporary-tattoo-design-workshop-30-4-25-6pm-8pm/
ATTACH;FMTTYPE=image/png:https://thearthouseoasis.com/wp-content/uploads/2025/03/Tattoo-Workshop-30.4.25.png
END:VEVENT
END:VCALENDAR