BEGIN:VCALENDAR
VERSION:2.0
PRODID:-//The Arthouse Oasis - ECPv6.15.16//NONSGML v1.0//EN
CALSCALE:GREGORIAN
METHOD:PUBLISH
X-ORIGINAL-URL:https://thearthouseoasis.com
X-WR-CALDESC:Events for The Arthouse Oasis
REFRESH-INTERVAL;VALUE=DURATION:PT1H
X-Robots-Tag:noindex
X-PUBLISHED-TTL:PT1H
BEGIN:VTIMEZONE
TZID:UTC
BEGIN:STANDARD
TZOFFSETFROM:+0000
TZOFFSETTO:+0000
TZNAME:UTC
DTSTART:20240101T000000
END:STANDARD
END:VTIMEZONE
BEGIN:VEVENT
DTSTART;TZID=UTC:20250405T113000
DTEND;TZID=UTC:20250405T123000
DTSTAMP:20260421T234031
CREATED:20250214T225856Z
LAST-MODIFIED:20250316T081754Z
UID:8845-1743852600-1743856200@thearthouseoasis.com
SUMMARY:Cherry Blossom Painting Workshop @ South Mill Arts 5.4.25
DESCRIPTION:Join me for a 1 hour painting workshop for beginners\, and paint cherry blossom in watercolours. \nYou’ll end up with a finished painting that you can take home with you. \nThis is a great way for friends and families to get creative together. \nSuitable for all abilities. All materials included. \nVENUE: Upstairs in The Cedar Room at South Mill Arts\, 1-3 South Rd\, Bishop’s Stortford CM23 3JG \nCOST: £20 per person. \nDATE: Saturday 5th April 2025 \nTIME: 11.30-12.30 prompt start \nBOOKING IN ADVANCE ONLY.
URL:https://thearthouseoasis.com/event/cherry-blossom-painting-workshop-south-mill-arts-5-4-25/
LOCATION:South Mill Arts\, 1-3 South Rd\, Bishop's Stortford\, CM23 3JG
ATTACH;FMTTYPE=image/png:https://thearthouseoasis.com/wp-content/uploads/2025/02/south-mill-arts.png
END:VEVENT
BEGIN:VEVENT
DTSTART;TZID=UTC:20250426T150000
DTEND;TZID=UTC:20250426T170000
DTSTAMP:20260421T234031
CREATED:20250305T135825Z
LAST-MODIFIED:20250425T120316Z
UID:9263-1745679600-1745686800@thearthouseoasis.com
SUMMARY:Freestyle Art Session 26.4.25 3-5pm
DESCRIPTION:EVENT DETAILS\n\nChoose from acrylic paints\, watercolors\, and more.  For beginners\, I will help you start your creative project and then set you free to see where the paint takes you. If you are more experienced you can bring your own project and work on it alongside us.\nThese sessions are different from my step-by-step painting workshops. These sessions provide an opportunity for you to experiment with various materials\, receive loose guidance\, and challenge yourself to see what emerges on the canvas. \nThat’s why beginners\, intermediates\, and professional painters are all welcome. Everyone can work at their own pace. \nBring your own subject matter to paint\, an existing project\, use your own materials\, or choose from my selection of materials\, reference photos and artificial flowers. \nStudents are welcome. Are you doing A-levels? Bring a project or contact me in advance of the session and we can work on a specific challenge that you have. \n\nThe cost includes materials\, light tuition\, tea and biscuits.\n\nBOOKING IN ADVANCE ONLY.\nLOCATION: GREAT HALLINGBURY\, BISHOP’S STORTFORD.
URL:https://thearthouseoasis.com/event/freestyle-art-session-26-4-25-3-5pm/
ATTACH;FMTTYPE=image/png:https://thearthouseoasis.com/wp-content/uploads/2024/07/Calendar-Ticket-Thumbnail-TITLED.png
END:VEVENT
END:VCALENDAR